BEGIN:VCALENDAR
PRODID:-//QuickBase//EN
VERSION:2.0
METHOD:PUBLISH
BEGIN:VEVENT
UID:bjct88s8xdjcpmr@quickbase.com
DTSTART;VALUE=DATE:20210224
DTEND;VALUE=DATE:10102
TRANSP:OPAQUE
SEQUENCE:0
DTSTAMP:20260424T144100Z
SUMMARY:District 10: Westchester Cultural Arts Center Construction
DESCRIPTION:Photos of Construction with Commissioner Souto
CLASS:PUBLIC
BEGIN:VALARM
TRIGGER:-PT1080M
ACTION:DISPLAY
DESCRIPTION:Reminder
END:VALARM
END:VEVENT
END:VCALENDAR
