BEGIN:VCALENDAR
PRODID:-//QuickBase//EN
VERSION:2.0
METHOD:PUBLISH
BEGIN:VEVENT
UID:bjct88s8xdjgvj@quickbase.com
DTSTART;VALUE=DATE:20150406
DTEND;VALUE=DATE:10102
TRANSP:OPAQUE
SEQUENCE:0
DTSTAMP:20260423T011900Z
SUMMARY:: West End Art Fair 
DESCRIPTION:Hello. I would like to request that the first tab on the Dist
 rict 11 website be changed from "Easter Egg-citment" to "West
  End Art Fair". The text can read "Commissioner Zapata invite
 s you to the first annual West End Art Fair on Saturday\, Apri
 l 18th and Sunday\, April 19th from 10:00AM to 5:00PM. The pho
 to should be the attached Art Fair Poster which was designed 
 by artist Stephen Gamson. If the image is cut off please make
  the photo link to the poster. Thank you! 
CLASS:PUBLIC
BEGIN:VALARM
TRIGGER:-PT1080M
ACTION:DISPLAY
DESCRIPTION:Reminder
END:VALARM
END:VEVENT
END:VCALENDAR
